BEGIN:VCALENDAR
VERSION:2.0
PRODID:-//Burton Manor Sports Association - ECPv6.15.20//NONSGML v1.0//EN
CALSCALE:GREGORIAN
METHOD:PUBLISH
X-WR-CALNAME:Burton Manor Sports Association
X-ORIGINAL-URL:https://burtonmanorsports.co.uk
X-WR-CALDESC:Events for Burton Manor Sports Association
REFRESH-INTERVAL;VALUE=DURATION:PT1H
X-Robots-Tag:noindex
X-PUBLISHED-TTL:PT1H
BEGIN:VTIMEZONE
TZID:Europe/London
BEGIN:DAYLIGHT
TZOFFSETFROM:+0000
TZOFFSETTO:+0100
TZNAME:BST
DTSTART:20240331T010000
END:DAYLIGHT
BEGIN:STANDARD
TZOFFSETFROM:+0100
TZOFFSETTO:+0000
TZNAME:GMT
DTSTART:20241027T010000
END:STANDARD
BEGIN:DAYLIGHT
TZOFFSETFROM:+0000
TZOFFSETTO:+0100
TZNAME:BST
DTSTART:20250330T010000
END:DAYLIGHT
BEGIN:STANDARD
TZOFFSETFROM:+0100
TZOFFSETTO:+0000
TZNAME:GMT
DTSTART:20251026T010000
END:STANDARD
BEGIN:DAYLIGHT
TZOFFSETFROM:+0000
TZOFFSETTO:+0100
TZNAME:BST
DTSTART:20260329T010000
END:DAYLIGHT
BEGIN:STANDARD
TZOFFSETFROM:+0100
TZOFFSETTO:+0000
TZNAME:GMT
DTSTART:20261025T010000
END:STANDARD
END:VTIMEZONE
BEGIN:VEVENT
DTSTART;TZID=Europe/London:20250905T000000
DTEND;TZID=Europe/London:20251009T235959
DTSTAMP:20260425T194519
CREATED:20250826T130938Z
LAST-MODIFIED:20250826T131434Z
UID:750-1757030400-1760054399@burtonmanorsports.co.uk
SUMMARY:Terry's fundraiser for YoungMinds Trust
DESCRIPTION:Terry Horne is raising money for YoungMinds Trust\n\n\n\nIn memory of Leon Horne \n  \n\n\n\n\n\n\n\n\nWalking the Southwest Coast Path · 5 September 2025 \n\n\n  \n\n\nStory\n\n\n\n\n\nI am walking the Southwest Coast Path starting 5 September in memory of my son Leon. The coast path is 630 miles long and will take me roughly 5-6 weeks. I will be wild camping in my little tent most nights. \nMy eldest son Leon took his own life 22 years ago. He had severe mental health issues. I believe mental health charities are vital and can play a very important role in the wellbeing of people. I have chosen this particular charity because they focus on young people. \nI would very much appreciate your support.. \n** For anyone that would like to keep tabs on my progress I will be creating a blog nearer the start date which I’ll update daily. I’ll add the link here later \n\n\n\n\n\n 
URL:https://burtonmanorsports.co.uk/event/terrys-fundraiser-for-youngminds-trust/
CATEGORIES:Charity
ATTACH;FMTTYPE=image/png:https://burtonmanorsports.co.uk/wp-content/uploads/2025/08/Screenshot-2025-08-26-140822.png
END:VEVENT
END:VCALENDAR