BEGIN:VCALENDAR
VERSION:2.0
PRODID:-//Burton Manor Sports Association - ECPv6.15.20//NONSGML v1.0//EN
CALSCALE:GREGORIAN
METHOD:PUBLISH
X-ORIGINAL-URL:https://burtonmanorsports.co.uk
X-WR-CALDESC:Events for Burton Manor Sports Association
REFRESH-INTERVAL;VALUE=DURATION:PT1H
X-Robots-Tag:noindex
X-PUBLISHED-TTL:PT1H
BEGIN:VTIMEZONE
TZID:Europe/London
BEGIN:DAYLIGHT
TZOFFSETFROM:+0000
TZOFFSETTO:+0100
TZNAME:BST
DTSTART:20240331T010000
END:DAYLIGHT
BEGIN:STANDARD
TZOFFSETFROM:+0100
TZOFFSETTO:+0000
TZNAME:GMT
DTSTART:20241027T010000
END:STANDARD
BEGIN:DAYLIGHT
TZOFFSETFROM:+0000
TZOFFSETTO:+0100
TZNAME:BST
DTSTART:20250330T010000
END:DAYLIGHT
BEGIN:STANDARD
TZOFFSETFROM:+0100
TZOFFSETTO:+0000
TZNAME:GMT
DTSTART:20251026T010000
END:STANDARD
BEGIN:DAYLIGHT
TZOFFSETFROM:+0000
TZOFFSETTO:+0100
TZNAME:BST
DTSTART:20260329T010000
END:DAYLIGHT
BEGIN:STANDARD
TZOFFSETFROM:+0100
TZOFFSETTO:+0000
TZNAME:GMT
DTSTART:20261025T010000
END:STANDARD
END:VTIMEZONE
BEGIN:VEVENT
DTSTART;TZID=Europe/London:20250315T190000
DTEND;TZID=Europe/London:20250315T230000
DTSTAMP:20260422T201328
CREATED:20250121T155111Z
LAST-MODIFIED:20250121T155434Z
UID:653-1742065200-1742079600@burtonmanorsports.co.uk
SUMMARY:Local Band - Lost The Plot
DESCRIPTION:Burton Manor Sports Assoc. Presents: \nFor One Night Only Local Band: Lost The Plot \nFor more info\, contact Bob Mahal 07968 866795 or Chris Brough 07792 667153 \nIncludes pulled pork bap & trimmings \nRaffle on the night – all proceeds in aid of Katherine House Hospice \nTicket only event – £10
URL:https://burtonmanorsports.co.uk/event/local-band-lost-the-plot/
CATEGORIES:Charity,Food,Live Music
ATTACH;FMTTYPE=image/jpeg:https://burtonmanorsports.co.uk/wp-content/uploads/2025/01/PHOTO-2025-01-17-11-36-39.jpg
END:VEVENT
END:VCALENDAR